BEGIN:VCALENDAR
VERSION:2.0
PRODID:-//Universal Studios//release-reminder//EN
BEGIN:VEVENT
UID:9mbi@http://www.victoriaandabdul.co.uk
SEQUENCE:0
DTSTAMP:20170901T104616Z
DTSTART;VALUE=DATE:20170915
X-MICROSOFT-CDO-ALLDAYEVENT:TRUE
X-MICROSOFT-MSNCALENDAR-ALLDAYEVENT:TRUE
SUMMARY:Victoria & Abdul: Get Tickets
DESCRIPTION:Buy tickets now for Victoria & Abdul at
URL;VALUE=URI:http://www.victoriaandabdul.co.uk
END:VEVENT
END:VCALENDAR